BEGIN:VCALENDAR
VERSION:2.0
PRODID:-//https://www.im-loewen.ch///NONSGML kigkonsult.se iCalcreator 2.10.15//
METHOD:PUBLISH
BEGIN:VEVENT
UID:20260420T010834CEST-44842NGdgw@https://www.im-loewen.ch/
DTSTAMP:20260419T230834Z
DESCRIPTION:\nJährlicher Fortsetzungskurs - auch Einsteiger sind willkommen
 !Die langjährige Erfahrung zeigt immer mehr\, dass über äussere Anwendunge
 n mit den Cremen unser grösstes Organ\, die Haut\, sehr wirkungsvoll unter
 stützt werden kann. Lernen und vertiefen Sie Ihr Wissen über die Kalyana-C
 remen und gewinnen Sie Sicherheit bei der Antlitzdiagnose.\nInhalt\n\nDie 
 antlitzdiagnostischen Merkmale werden an den Kursteilnehmern erarbeitet un
 d vertieft\, so dass sie im Gesicht erkannt werden können\nDie Wirkungswei
 se der 18 Kalyana-Cremen werden erarbeitet und Erfahrungen ausgetauscht\nE
 s bleibt viel Raum und Zeit um die erworbenen Erfahrungen gegenseitig ausz
 utauschen\n\n \nFür die Teilnehmer unserer eigenen Seminare besteht die Mö
 glichkeit einer Seminarbestellung mit 10% Rabatt (nur an den Seminartagen 
 – Rabatte sind kumulierbar).\n \nKosten: inkl. vegetarische Mahlzeiten und
  ausführliche Kursunterlagen\n \n \nReferentin: Monika Schläpfer\n\n dipl.
  Naturheilpraktikerin TEN\nKosten: CHF 335.- inkl. 2 vegetarische Mahlzeit
 en\n \n \n  https://www.im-loewen.ch/component/rseventspro/event/90-kalyan
 a-cremen-und-antlitzdiagnose?Itemid=101
DTSTART:20240316T080000Z
DTEND:20240317T160000Z
LOCATION:Begegnungszentrum und Seminarhaus Im Löwen (Platz 1192\, 9428\, Wa
 lzenhausen\, Appenzell-Ausserrhoden)
SUMMARY:Kalyana-Cremen und Antlitzdiagnose
URL:https://www.im-loewen.ch/component/rseventspro/event/90-kalyana-cremen-
 und-antlitzdiagnose?Itemid=101
END:VEVENT
END:VCALENDAR
