BEGIN:VCALENDAR
VERSION:2.0
PRODID:-//https://www.im-loewen.ch///NONSGML kigkonsult.se iCalcreator 2.10.15//
METHOD:PUBLISH
BEGIN:VEVENT
UID:20260420T011125CEST-0976roDSoV@https://www.im-loewen.ch/
DTSTAMP:20260419T231125Z
DESCRIPTION:\nSchüsslersalze sind anorganische Stoffe\, die im menschlichen
  Organismus katalytisch wirken. Sie sind nötig für unser Wohlbefinden\, zu
 r Pflege der Gesundheit und Vermeidung oder Behandlung von Krankheit.\nDie
  Mineralstoffe nach Dr. Schüssler werden in ihren Funktionen und den psych
 ischen Bedeutungen erläutert. Aufgrund der im Gesicht ablesbaren antlitzdi
 agnostischen Merkmale\, die im Kurs erlernt und geübt werden\, erkennen wi
 r\, welche Mineralstoffe ein Mensch benötigt. Die so ermittelte Zusammenst
 ellung ermöglicht die individuell abgestimmte Einnahme der Mineralstoffe.D
 ie Mineralstoffe fördern die Vitalität\, ein verstärktes Lebensgefühl und 
 den Aufbau der Gesundheit.\nSeminarinhalt:\n\nMit Lichtbildern werden die 
 antlitzdiagnostischen Merkmale erarbeitet\, so dass sie im Gesicht erkannt
  werden können.\nDie Wirkungsweise der 12 Lebenssalze wird mit praktischen
  Beispielen aufgezeigt.\nDie seelisch-geistigen Beziehungen der Mineralsto
 ffe\nZu jedem der 12 Mineralstoffe wird aufgrund der physischen Wirkungswe
 ise eine entsprechende seelische Kraft oder Tugend erarbeitet. Dadurch ent
 steht die Möglichkeit Verhaltensmuster zu erkennen und diese wenn nötig zu
  verändern.\nFragen der Teilnehmer werden besprochen\n\n \nKosten: inkl. U
 nterlagen und 2 vegetarische Mittagsmahlzeiten (bitte Unverträglichkeiten 
 bekanntgeben)\nFür die Teilnehmer unserer eigenen Seminare besteht die Mög
 lichkeit einer Seminarbestellung mit 10% Rabatt (nur an den Seminartagen –
  Rabatte sind kumulierbar).\n \nReferentin: Monika Schläpfer\n\n dipl. Nat
 urheilpraktikerin TEN\n \nKosten: CHF 335.- inkl. 2 vegetarische Mahlzeite
 n\n  https://www.im-loewen.ch/component/rseventspro/event/88-grundkurs---m
 ineralstoffe-nach-dr-schuessler-und-antlitzdiagnose?Itemid=101
DTSTART:20240907T070000Z
DTEND:20240908T150000Z
LOCATION:Begegnungszentrum und Seminarhaus Im Löwen (Platz 1192\, 9428\, Wa
 lzenhausen\, Appenzell-Ausserrhoden)
SUMMARY:Grundkurs – Mineralstoffe nach Dr. Schüssler und Antlitzdiagnose 
URL:https://www.im-loewen.ch/component/rseventspro/event/88-grundkurs---min
 eralstoffe-nach-dr-schuessler-und-antlitzdiagnose?Itemid=101
END:VEVENT
END:VCALENDAR
