BEGIN:VCALENDAR
VERSION:2.0
PRODID:-//https://www.im-loewen.ch///NONSGML kigkonsult.se iCalcreator 2.10.15//
METHOD:PUBLISH
BEGIN:VEVENT
UID:20260420T010415CEST-5719D18U65@https://www.im-loewen.ch/
DTSTAMP:20260419T230415Z
DESCRIPTION:\n \nFindet statt und hat noch wenige freie Plätze!\nDie Fermen
 tation ist eine uralte Methode\, Lebensmittel haltbar zu machen. Seit Jahr
 tausenden ist bekannt\, wie wertvoll Fermente für unsere Gesundheit sind. 
 Fermentierte Lebensmittel enthalten Enzyme\, durch die Fermentation werden
  die Vitalstoffe sogar noch gesteigert. Doch leider gerieten sie in unsere
 m „antibakteriellen Zeitalter“ weitestgehend in Vergessenheit\, obwohl sie
  allgegenwärtig sind. Mit dieser einfachen Konservierungsmethode erhalten 
 wir haltbare\, lebendige Lebensmittel die einfach lecker schmecken und uns
 ere Darmflora natürlich aufbauen.In diesem Workshop geht es darum\, prakti
 sch zu erleben\, wie wir fermentierte Lebensmittel in unseren modernen All
 tag integrieren können.\n\nKurzer Theorieteil (umfassendes Skript wird abg
 egeben):\n\nGesundheitliche Vorteile von fermentierten Lebensmitteln\nHint
 ergründe\, Techniken\n\n\nPraxisteil:\n\nHerstellen von Fermenten zum nach
  Hause nehmen wie: Sauerkraut\, Randen\, Rettich\, Kombucha\, Kefir\, etc.
 \nTipps und Tricks\nUnd es gibt viel zum Probieren!\n\n\n\nSeminarort: Im 
 Löwen – WalzenhausenDatum: 17. August 2024Samstag: 09.00 – 17.00 UhrKosten
 : CHF 230.- inkl. vegetarische Mahlzeit\, ausführliche Kursunterlagen\, St
 arterkulturen\, Gläser und Gemüse(bitte Unverträglichkeiten bekanntgeben)
 \nTeilnehmeranzahl: mind. 8\, max. 12 Teilnehmer\nHinweise: Bitte frühzeit
 ig anmelden\, da Starterkulturen von Kombucha und Kefir abgegeben werden.
 \nReferentin: Monika Schläpfer\n\n dipl. Naturheilpraktikerin TEN\nKosten:
  CHF 230.- inkl. vegetarische Mahlzeit\, Material und Kursunterlagen\n \n 
  https://www.im-loewen.ch/component/rseventspro/event/86-workshop-fermenti
 erte-lebensmittel?Itemid=101
DTSTART:20240817T070000Z
DTEND:20240817T150000Z
LOCATION:Begegnungszentrum und Seminarhaus Im Löwen (Platz 1192\, 9428\, Wa
 lzenhausen\, Appenzell-Ausserrhoden)
SUMMARY:Workshop: Fermentierte Lebensmittel
URL:https://www.im-loewen.ch/component/rseventspro/event/86-workshop-fermen
 tierte-lebensmittel?Itemid=101
END:VEVENT
END:VCALENDAR
