BEGIN:VCALENDAR
VERSION:2.0
PRODID:-//https://www.im-loewen.ch///NONSGML kigkonsult.se iCalcreator 2.10.15//
METHOD:PUBLISH
BEGIN:VEVENT
UID:20260420T030901CEST-9528jcWh2h@https://www.im-loewen.ch/
DTSTAMP:20260420T010901Z
DESCRIPTION:\n \nKalyana bedeutet im altindischen Sanskrit\nGesundheit\, Wo
 hlergehen\, Glück und Segen\n \nDie Mineralstoffcremen sind ideal für Mass
 agen\, können auf die Körperzonen entlang der Organfunktionsströme oder Me
 ridiane aufgetragen werden und entfalten ihre volle Wirkung auch als Maske
 n und Kompressen.\n \nDie langjährige Erfahrung zeigt immer mehr\, dass üb
 er äussere Anwendungen unser grösstes Organ\, die Haut sehr wirkungsvoll u
 nterstützt werden kann.Berühren und Berührtwerden sind zwei wichtige Eleme
 nte in der Entwicklung zum wahren Menschsein.\n \nDoch welche der 12 Kalya
 na-Einzelcremen bringt mir den gewünschten Effekt? Oder nehme ich doch bes
 ser eine der 6 Mischungen?\n \nLernen Sie die Kalyana Cremen und die versc
 hiedenen Anwendungsmöglichkeiten hautnah kennen. Es warten viele Tipps und
  Tricks aus der langjährigen Praxiserfahrung auf sie.\nInhalt\n\nKalyana C
 remen 1-12\nKalyana Cremen Mischungen \nAnwendungsmöglichkeiten\nTipps aus
  der langjährigen Praxiserfahrung\nRaum und Zeit um die Wirkungsweise zu e
 rleben\n\n \n \n \nKosten: inkl. vegetarische Mahlzeit und ausführliche Ku
 rsunterlagen\n \n \nReferentin: Monika Schläpfer\n\n dipl. Naturheilprakti
 kerin TEN\nKosten: CHF 180.- inkl. 1 vegetarische Mahlzeiten\n \n \n  http
 s://www.im-loewen.ch/component/rseventspro/event/116-kalyana-cremen---mehr
 -als-nur-naturkosmetik?Itemid=101
DTSTART:20261024T070000Z
DTEND:20261024T150000Z
LOCATION:Begegnungszentrum und Seminarhaus Im Löwen (Platz 1192\, 9428\, Wa
 lzenhausen\, Appenzell-Ausserrhoden)
SUMMARY:Kalyana Cremen – mehr als nur Naturkosmetik
URL:https://www.im-loewen.ch/component/rseventspro/event/116-kalyana-cremen
 ---mehr-als-nur-naturkosmetik?Itemid=101
END:VEVENT
END:VCALENDAR
